BEGIN:VCALENDAR
VERSION:2.0
PRODID:-//fisherofzen - ECPv6.15.17//NONSGML v1.0//EN
CALSCALE:GREGORIAN
METHOD:PUBLISH
X-WR-CALNAME:fisherofzen
X-ORIGINAL-URL:https://fisherofzen.com
X-WR-CALDESC:Events for fisherofzen
REFRESH-INTERVAL;VALUE=DURATION:PT1H
X-Robots-Tag:noindex
X-PUBLISHED-TTL:PT1H
BEGIN:VTIMEZONE
TZID:America/Chicago
BEGIN:DAYLIGHT
TZOFFSETFROM:-0600
TZOFFSETTO:-0500
TZNAME:CDT
DTSTART:20230312T080000
END:DAYLIGHT
BEGIN:STANDARD
TZOFFSETFROM:-0500
TZOFFSETTO:-0600
TZNAME:CST
DTSTART:20231105T070000
END:STANDARD
BEGIN:DAYLIGHT
TZOFFSETFROM:-0600
TZOFFSETTO:-0500
TZNAME:CDT
DTSTART:20240310T080000
END:DAYLIGHT
BEGIN:STANDARD
TZOFFSETFROM:-0500
TZOFFSETTO:-0600
TZNAME:CST
DTSTART:20241103T070000
END:STANDARD
BEGIN:DAYLIGHT
TZOFFSETFROM:-0600
TZOFFSETTO:-0500
TZNAME:CDT
DTSTART:20250309T080000
END:DAYLIGHT
BEGIN:STANDARD
TZOFFSETFROM:-0500
TZOFFSETTO:-0600
TZNAME:CST
DTSTART:20251102T070000
END:STANDARD
END:VTIMEZONE
BEGIN:VEVENT
DTSTART;VALUE=DATE:20240216
DTEND;VALUE=DATE:20240219
DTSTAMP:20260422T032458
CREATED:20231109T153959Z
LAST-MODIFIED:20231109T154324Z
UID:1669-1708041600-1708300799@fisherofzen.com
SUMMARY:GRTU Troutfest 2024
DESCRIPTION:Cari will be joining other FFI Certified Instructors to offer free casting clinics all day Saturday & Sunday of the event. \nGRTU’s Troutfest TX is a nationally recognized event\, and the largest of its kind in Texas\, bringing out a crowd of over 3\,000 people interested in fly fishing and preserving and protecting cold water fisheries. This three-day event takes place on the Guadalupe River Tailwater\, and it includes a fund-raising banquet and weekend Expo. \n\n\n\n\n\nFree Fly Casting Lessons and Clinics\nKeynote Speakers\nPresentations from Guides\, Outfitters\, Gear Manufacturers and Experts from Around the World\nLive Auction & Online Silent\nVendor Expo with Guides\, Fly Shops\, Artists\, Outfitters\, Gear Manufacturers\, Rod Builders\nOn Water Watercraft Demos\nLive Auction\nMovie Night\nKids Events\nDoor Prizes\nGreat Food & Local Craft Beer
URL:https://fisherofzen.com/event/grtu-troutfest-2024/
LOCATION:Lazy L&L Resort\, 11699 River Rd\, New Braunfels\, TX\, 78132\, United States
END:VEVENT
BEGIN:VEVENT
DTSTART;TZID=America/Chicago:20240221T190000
DTEND;TZID=America/Chicago:20240221T200000
DTSTAMP:20260422T032458
CREATED:20240213T154952Z
LAST-MODIFIED:20240221T180032Z
UID:1784-1708542000-1708545600@fisherofzen.com
SUMMARY:CASTING MATTERS: Mapping Your Casting Journey - Virtual Presentation
DESCRIPTION:SCROLL DOWN FOR LOGIN INFO. \nCasting is arguably the preeminent skill in fly fishing. It is also\, quite possibly\, the most frequently overlooked. While there is no consensus as to why\, I would point to a few reasons as likely suspects. Historically\, for lack of any existing standard of measure\, it has been difficult for a fly angler to self-assess his/her proficiency. Even if they could\, what then? What should be the next area of focus\, the next goal set? And how much time and effort would it really take to achieve notable improvement on the water? \nIn this presentation\, we’ll talk about how improved casting can both enhance your enjoyment of fly fishing and lead to more consistent success. We’ll also bust some myths about the amount of time and energy it takes for marked improvement (spoiler alert: it’s not as much as you think). I’ll offer some tips you can employ that will improve your cast the very next time you pick up a fly rod as well as ideas for mapping a path to continue building from there.  \nThis presentation is appropriate for all casting skill levels. \nPresenter: Cari Ray\, FFI Certified Casting Instructor\, FFI Texas Council Casting Director \nThe first time Cari Ray cast a fly rod she was all in. It stands to reason. Having spent years as a singer-songwriter and musician\, the rhythm and balance of fly casting felt immediately familiar…and satisfying. After stepping away from the touring life\, Cari combined her passion for fly fishing with her love of teaching to launch Zen Fly Fishing\, a school and guide service.  \nCari is a full time fly fishing guide\, Fly Fishers International (FFI) Certified Casting Instructor\, host of the Fisher of Zen Podcast\, and serves on the FFI Texas Council Board as Casting Director.  \nWith a particular passion for inspiring new fly anglers\, she loves mentoring beginning as well as advanced students/clients to identify\, learn and grow the skills necessary to achieve consistent and independent success on the water. Through her guiding\, teaching\, writing\, and public speaking efforts she invites anglers to learn and experience fly fishing in the wilds of nature and the context of mindfulness and conservation. \nFind Cari online at fisherofzen.com or on Instagram at @fisherofzen \nThis event is free and brought to you by the Texas Council of Fly Fishers International.\nLooking for more educational resources and/or fly-fishy-folks? Click here to find a club in your neighborhood: Texas Fly Fishing Clubs \nPRESENTATION LOGIN INFO:\nTopic: CASTING MATTERS: Mapping Your Casting Journey\nTime: Feb 21\, 2024 07:00 PM Central Time (US and Canada)\n\nJoin Zoom Meeting\nhttps://us02web.zoom.us/j/87044940191?pwd=dk1xS0tkekVNOVZvVjZsc1BEclE4UT09\n\nMeeting ID: 870 4494 0191\nPasscode: 250864\n\n—\n\nOne tap mobile\n+13462487799\,\,87044940191#\,\,\,\,*250864# US (Houston)\n+17193594580\,\,87044940191#\,\,\,\,*250864# US\n\n—\n\nDial by your location\n• +1 346 248 7799 US (Houston)\n• +1 719 359 4580 US\n• +1 253 205 0468 US\n• +1 253 215 8782 US (Tacoma)\n• +1 669 444 9171 US\n• +1 669 900 6833 US (San Jose)\n• +1 301 715 8592 US (Washington DC)\n• +1 305 224 1968 US\n• +1 309 205 3325 US\n• +1 312 626 6799 US (Chicago)\n• +1 360 209 5623 US\n• +1 386 347 5053 US\n• +1 507 473 4847 US\n• +1 564 217 2000 US\n• +1 646 558 8656 US (New York)\n• +1 646 931 3860 US\n• +1 689 278 1000 US\n\nMeeting ID: 870 4494 0191\nPasscode: 250864\n\nFind your local number: https://us02web.zoom.us/u/kellU8Pxsf\n 
URL:https://fisherofzen.com/event/casting-matters-mapping-your-casting-journey-virtual-presentation/
LOCATION:Online\, United States
ORGANIZER;CN="Texas Council%2C FFI":MAILTO:cariray@texascouncilffi.com
END:VEVENT
BEGIN:VEVENT
DTSTART;TZID=America/Chicago:20240224T100000
DTEND;TZID=America/Chicago:20240224T140000
DTSTAMP:20260422T032458
CREATED:20231026T171303Z
LAST-MODIFIED:20240219T231154Z
UID:1646-1708768800-1708783200@fisherofzen.com
SUMMARY:Texas Trout School - Guadalupe Tailwater
DESCRIPTION:If I had a dime for every time I get asked “what flies are you using?” I’m always happy to oblige\, but what I often want to say is “you’re asking the wrong question.” Time and again\, I meet anglers who fail to understand that it is insufficient skill and/or knowledge\, not their tackle\, that holds them back. This is my answer to that conundrum. A curriculum that goes beyond flies and rigging to cover the skills necessary to achieve consistent success. \nIt is essential for beginners\, but especially helpful for warm water anglers looking to better understand the finer points and finesse of trout angling\,and those who often fish with guides looking to achieve similar success independently. \nIn this 1/2 day skills clinic\, you’ll come away better understanding:\n• The primary differences in approach when targeting trout vs. warm water species\n• Various flies and rigging techniques\n• How to read water and find fish\n• How to fish nymphs\, dries\, & streamers with greater success\n• Casts that catch fish\n• When and how to mend effectively\n• How to set up and manage your drift\n• How to set the hook and play the fish to reduce the risk of “remote release” \nON-SITE LODGING AVAILABLE!\nIf you’d like to make a weekend of it\, both cabins and RV spots are available at Summit. You can take advantage of a special 12% school discount or buy 2 nights and get one free (Thurs-Sun or Fri-Mon). \nYou will receive a confirmation email after purchase that will secure your spot in the class. You will also receive an email communication of more detail about what to bring and what to expect about a week out. \nIf you have any question before or after registering\, please reach out to cari@zenflyfishing.org.
URL:https://fisherofzen.com/event/texas-trout-school-guadalupe-tailwater-4/
LOCATION:Summit Vacation & RV Resort\, 13105 River Rd\, New Braunfels\, TX\, 78132\, United States
ATTACH;FMTTYPE=image/jpeg:https://fisherofzen.com/wp-content/uploads/2023/02/IMG_2456-scaled.jpg
ORGANIZER;CN="The School of Zen Fly Fishing":MAILTO:cari@zenflyfishing.org
END:VEVENT
END:VCALENDAR