BEGIN:VCALENDAR
VERSION:2.0
PRODID:-//fisherofzen - ECPv6.15.17//NONSGML v1.0//EN
CALSCALE:GREGORIAN
METHOD:PUBLISH
X-WR-CALNAME:fisherofzen
X-ORIGINAL-URL:https://fisherofzen.com
X-WR-CALDESC:Events for fisherofzen
REFRESH-INTERVAL;VALUE=DURATION:PT1H
X-Robots-Tag:noindex
X-PUBLISHED-TTL:PT1H
BEGIN:VTIMEZONE
TZID:America/Chicago
BEGIN:DAYLIGHT
TZOFFSETFROM:-0600
TZOFFSETTO:-0500
TZNAME:CDT
DTSTART:20220313T080000
END:DAYLIGHT
BEGIN:STANDARD
TZOFFSETFROM:-0500
TZOFFSETTO:-0600
TZNAME:CST
DTSTART:20221106T070000
END:STANDARD
BEGIN:DAYLIGHT
TZOFFSETFROM:-0600
TZOFFSETTO:-0500
TZNAME:CDT
DTSTART:20230312T080000
END:DAYLIGHT
BEGIN:STANDARD
TZOFFSETFROM:-0500
TZOFFSETTO:-0600
TZNAME:CST
DTSTART:20231105T070000
END:STANDARD
BEGIN:DAYLIGHT
TZOFFSETFROM:-0600
TZOFFSETTO:-0500
TZNAME:CDT
DTSTART:20240310T080000
END:DAYLIGHT
BEGIN:STANDARD
TZOFFSETFROM:-0500
TZOFFSETTO:-0600
TZNAME:CST
DTSTART:20241103T070000
END:STANDARD
END:VTIMEZONE
BEGIN:VTIMEZONE
TZID:America/Chicago
BEGIN:DAYLIGHT
TZOFFSETFROM:-0600
TZOFFSETTO:-0500
TZNAME:CDT
DTSTART:20220313T080000
END:DAYLIGHT
BEGIN:STANDARD
TZOFFSETFROM:-0500
TZOFFSETTO:-0600
TZNAME:CST
DTSTART:20221106T070000
END:STANDARD
BEGIN:DAYLIGHT
TZOFFSETFROM:-0600
TZOFFSETTO:-0500
TZNAME:CDT
DTSTART:20230312T080000
END:DAYLIGHT
BEGIN:STANDARD
TZOFFSETFROM:-0500
TZOFFSETTO:-0600
TZNAME:CST
DTSTART:20231105T070000
END:STANDARD
BEGIN:DAYLIGHT
TZOFFSETFROM:-0600
TZOFFSETTO:-0500
TZNAME:CDT
DTSTART:20240310T080000
END:DAYLIGHT
BEGIN:STANDARD
TZOFFSETFROM:-0500
TZOFFSETTO:-0600
TZNAME:CST
DTSTART:20241103T070000
END:STANDARD
END:VTIMEZONE
BEGIN:VEVENT
DTSTART;TZID=America/Chicago:20231004T110000
DTEND;TZID=America/Chicago:20231004T120000
DTSTAMP:20260421T202623
CREATED:20230911T182057Z
LAST-MODIFIED:20230912T112836Z
UID:1612-1696417200-1696420800@fisherofzen.com
SUMMARY:Casting Presentation - St. Stephen's Fly Fishing Club
DESCRIPTION:
URL:https://fisherofzen.com/event/casting-presentation-st-stephens-fly-fishing-club/
ORGANIZER;CN="The School of Zen Fly Fishing":MAILTO:cari@zenflyfishing.org
END:VEVENT
BEGIN:VEVENT
DTSTART;VALUE=DATE:20231013
DTEND;VALUE=DATE:20231016
DTSTAMP:20260421T202623
CREATED:20230911T132904Z
LAST-MODIFIED:20230911T132921Z
UID:1604-1697155200-1697414399@fisherofzen.com
SUMMARY:Casting For Recovery Central Texas Fall Retreat
DESCRIPTION:Cari volunteers as a fly fishing instructor for this amazing nonprofit organization that provides fly fishing retreats for women living with breast cancer. Please click the link and consider supporting this worthy organization with your time and/or resources!
URL:https://fisherofzen.com/event/casting-for-recovery-retreat/
LOCATION:Camp Capers\, 418 FM1621\, Waring\, TX\, 78074
END:VEVENT
BEGIN:VEVENT
DTSTART;TZID=America/Chicago:20231025T180000
DTEND;TZID=America/Chicago:20231025T200000
DTSTAMP:20260421T202623
CREATED:20230911T135908Z
LAST-MODIFIED:20230912T123736Z
UID:1608-1698256800-1698264000@fisherofzen.com
SUMMARY:"Fishing the Guad" Presentation at New Braunfels Fly Fishers
DESCRIPTION:
URL:https://fisherofzen.com/event/fishing-the-guad-presentation-at-new-braunfels-fly-fishers/
LOCATION:New Braunfels Library\, 700 E Common St\, New Braunfels\, TX\, 78130
ORGANIZER;CN="The School of Zen Fly Fishing":MAILTO:cari@zenflyfishing.org
END:VEVENT
END:VCALENDAR