BEGIN:VCALENDAR
VERSION:2.0
PRODID:-//fisherofzen - ECPv6.15.17//NONSGML v1.0//EN
CALSCALE:GREGORIAN
METHOD:PUBLISH
X-WR-CALNAME:fisherofzen
X-ORIGINAL-URL:https://fisherofzen.com
X-WR-CALDESC:Events for fisherofzen
REFRESH-INTERVAL;VALUE=DURATION:PT1H
X-Robots-Tag:noindex
X-PUBLISHED-TTL:PT1H
BEGIN:VTIMEZONE
TZID:America/Chicago
BEGIN:DAYLIGHT
TZOFFSETFROM:-0600
TZOFFSETTO:-0500
TZNAME:CDT
DTSTART:20230312T080000
END:DAYLIGHT
BEGIN:STANDARD
TZOFFSETFROM:-0500
TZOFFSETTO:-0600
TZNAME:CST
DTSTART:20231105T070000
END:STANDARD
BEGIN:DAYLIGHT
TZOFFSETFROM:-0600
TZOFFSETTO:-0500
TZNAME:CDT
DTSTART:20240310T080000
END:DAYLIGHT
BEGIN:STANDARD
TZOFFSETFROM:-0500
TZOFFSETTO:-0600
TZNAME:CST
DTSTART:20241103T070000
END:STANDARD
BEGIN:DAYLIGHT
TZOFFSETFROM:-0600
TZOFFSETTO:-0500
TZNAME:CDT
DTSTART:20250309T080000
END:DAYLIGHT
BEGIN:STANDARD
TZOFFSETFROM:-0500
TZOFFSETTO:-0600
TZNAME:CST
DTSTART:20251102T070000
END:STANDARD
END:VTIMEZONE
BEGIN:VEVENT
DTSTART;TZID=America/Chicago:20240508T190000
DTEND;TZID=America/Chicago:20240508T203000
DTSTAMP:20260422T172045
CREATED:20240213T161536Z
LAST-MODIFIED:20240219T231304Z
UID:1794-1715194800-1715200200@fisherofzen.com
SUMMARY:CASTING MATTERS: Minding Your Loop - Virtual Presentation
DESCRIPTION:SCROLL DOWN FOR LOGIN INFO \nIf you ask most fly anglers what the fly rod is for\, they’d likely say to cast the fly\, or perhaps the more experienced would tell you it’s to cast the line. That answer is close. But to be more specific\, the proper movement of a fly rod by an angler is to create a loop of fly line\, either forward or back\, extending from the rod tip. It’s this loop\, then\, that does the work of delivering the fly to the target.  \nOnce you learn the steps necessary to form and control the size of that loop\, your ability to place flies where and in the manner you wish expands exponentially. In this presentation\, FFI CI Jim Richards will cover the fundamentals of loop formation\, use cases for different loops\, and the skills necessary to control loop shape and trajectory. \nPresenter: Jim Richards\, FFI CI \nJim is a Fly Fishers International Certified Casting Instructor and is an officer and member of the Board of Directors for the Fly Fishers International Texas Council. Additionally\, Jim is a 15 plus year member of the Texas Fly Fishers\, where he has served as an officer and member of the Board of Directors\, is a member of the Coastal Conservation Association (CCA) and is a member of Trout Unlimited (Guadalupe River Chapter). In addition to fly fishing experience from coast-to-coast in the United States\, for multiple freshwater species such as trout\, small and largemouth bass and Arctic grayling\, along with saltwater species including redfish\, trout\, bonefish\, snook and tarpon\, Jim has also fished the waters of Belize\, Canada and the United Kingdom. Jim has served as a volunteer instructor for The Mayfly Project – a fly fishing-based organization created for the benefit of foster children and enjoys fly fishing from his SUP and kayak as a member of the Texas based Paddling Anglers in Canoes and Kayaks. \nThis event is free and brought to you by the Texas Council of Fly Fishers International.\nLooking for more educational resources and/or fly-fishy-folks? Click here to find a club in your neighborhood: Texas Fly Fishing Clubs \nPRESENTATION LOGIN INFO: \nTopic: CASTING MATTERS: Minding Your Loop\nTime: May 8\, 2024 07:00 PM Central Time (US and Canada) \nJoin Zoom Meeting\nhttps://us02web.zoom.us/j/86859585271?pwd=MStlamF5QkJJNWVCRkRnN29CSnRyUT09 \nMeeting ID: 868 5958 5271\nPasscode: 577608 \n— \nOne tap mobile\n+13462487799\,\,86859585271#\,\,\,\,*577608# US (Houston)\n+17193594580\,\,86859585271#\,\,\,\,*577608# US \n— \nDial by your location\n• +1 346 248 7799 US (Houston)\n• +1 719 359 4580 US\n• +1 253 205 0468 US\n• +1 253 215 8782 US (Tacoma)\n• +1 669 444 9171 US\n• +1 669 900 6833 US (San Jose)\n• +1 312 626 6799 US (Chicago)\n• +1 360 209 5623 US\n• +1 386 347 5053 US\n• +1 507 473 4847 US\n• +1 564 217 2000 US\n• +1 646 558 8656 US (New York)\n• +1 646 931 3860 US\n• +1 689 278 1000 US\n• +1 301 715 8592 US (Washington DC)\n• +1 305 224 1968 US\n• +1 309 205 3325 US \nMeeting ID: 868 5958 5271\nPasscode: 577608 \nFind your local number: https://us02web.zoom.us/u/kjnfmlESs
URL:https://fisherofzen.com/event/casting-matters-minding-your-loop-virtual-presentation/
LOCATION:Online\, United States
ATTACH;FMTTYPE=image/jpeg:https://fisherofzen.com/wp-content/uploads/2021/11/IMG_3684-scaled.jpg
ORGANIZER;CN="Texas Council%2C FFI":MAILTO:cariray@texascouncilffi.com
END:VEVENT
BEGIN:VEVENT
DTSTART;VALUE=DATE:20240530
DTEND;VALUE=DATE:20240603
DTSTAMP:20260422T172045
CREATED:20231230T023628Z
LAST-MODIFIED:20231230T023711Z
UID:1749-1717027200-1717372799@fisherofzen.com
SUMMARY:"TRY THE FLY" Fly Fishing Retreat- Adirondack Edition - Great Camp Sagamore
DESCRIPTION:Spend the weekend learning the basics of fly casting and fishing while immersed in the beauty of the Adirondacks. You’ll learn about equipment\, casting\, flies and fishing techniques. In addition\, the retreat includes angling opportunities to target wild\, native Brook Trout on the fly. This means you’ll come away with the information and skills necessary to strike out on your own fly-fishing journey. You’ll also have ample free time to explore. Take a walk\, sit by the fire\, fly fish\, or paddle a canoe or kayak around Sagamore Lake. Embrace the opportunity to connect more deeply with the natural world of which you are part.
URL:https://fisherofzen.com/event/try-the-fly-fly-fishing-retreat-great-camp-sagamore-adirondack-national-park/
LOCATION:Great Camp Sagamore\, 1105 Sagamore Road\, Raquette Lake\, NY\, 13436\, United States
ATTACH;FMTTYPE=image/jpeg:https://fisherofzen.com/wp-content/uploads/2022/03/IMG_2786-2.jpg
ORGANIZER;CN="The School of Zen Fly Fishing":MAILTO:cari@zenflyfishing.org
END:VEVENT
BEGIN:VEVENT
DTSTART;TZID=America/Chicago:20240612T070000
DTEND;TZID=America/Chicago:20240612T203000
DTSTAMP:20260422T172045
CREATED:20240213T162141Z
LAST-MODIFIED:20240219T230557Z
UID:1796-1718175600-1718224200@fisherofzen.com
SUMMARY:CASTING MATTERS: The Building Blocks of Accurate Fly Casting
DESCRIPTION:SCROLL DOWN FOR LOGIN INFO \nDescription to come… \nPresenter: Bill Campbell\, FFI Certified Casting Instructor \nBill grew up in the suburbs of Baltimore\, MD where he learned to fly fish when he was eleven years old. The area’s local farm ponds and its tributaries of the Chesapeake Bay proved to be excellent fishing classrooms for him. During his teenage years\, his passion for fly fishing grew by regularly reading Lefty Kreh’s “Maryland Outdoors” article\, which was published weekly in The Baltimore Sun. \nThroughout his fly-fishing journey\, Bill has had the good fortune to fly fish from New Zealand to Maryland and many places in between. Today\, he fishes mostly on Lake Texoma and in the lakes and rivers of East Tennessee. His favorite place to fish is on the banks of Lake Texoma chasing smallmouth bass on topwater with his British Lab\, Charleigh by his side. He divides his time between his residences in Lewisville\, TX and Monteagle\, TN. \nThis event is free and brought to you by the Texas Council of Fly Fishers International.\nLooking for more educational resources and/or fly-fishy-folks? Click here to find a club in your neighborhood: Texas Fly Fishing Clubs \nPRESENTATION LOGIN INFO: \nTopic: CASTING MATTERS: The Building Blocks of Accurate Fly Casting\nTime: Jun 12\, 2024 07:00 PM Central Time (US and Canada) \nJoin Zoom Meeting\nhttps://us02web.zoom.us/j/81528289782?pwd=bHpNWU1RYjN3Y1l2c3FHcmJzSlAxdz09 \nMeeting ID: 815 2828 9782\nPasscode: 240743 \n— \nOne tap mobile\n+13462487799\,\,81528289782#\,\,\,\,*240743# US (Houston)\n+16699006833\,\,81528289782#\,\,\,\,*240743# US (San Jose) \n— \nDial by your location\n• +1 346 248 7799 US (Houston)\n• +1 669 900 6833 US (San Jose)\n• +1 719 359 4580 US\n• +1 253 205 0468 US\n• +1 253 215 8782 US (Tacoma)\n• +1 669 444 9171 US\n• +1 507 473 4847 US\n• +1 564 217 2000 US\n• +1 646 558 8656 US (New York)\n• +1 646 931 3860 US\n• +1 689 278 1000 US\n• +1 301 715 8592 US (Washington DC)\n• +1 305 224 1968 US\n• +1 309 205 3325 US\n• +1 312 626 6799 US (Chicago)\n• +1 360 209 5623 US\n• +1 386 347 5053 US \nMeeting ID: 815 2828 9782\nPasscode: 240743 \nFind your local number: https://us02web.zoom.us/u/koahkoSR5 \n 
URL:https://fisherofzen.com/event/casting-matters-the-building-blocks-of-accurate-fly-casting/
LOCATION:Online\, United States
ATTACH;FMTTYPE=image/jpeg:https://fisherofzen.com/wp-content/uploads/2024/02/dryflyfloating.jpeg
ORGANIZER;CN="Texas Council%2C FFI":MAILTO:cariray@texascouncilffi.com
END:VEVENT
END:VCALENDAR