BEGIN:VCALENDAR
VERSION:2.0
PRODID:-//fisherofzen - ECPv6.15.17//NONSGML v1.0//EN
CALSCALE:GREGORIAN
METHOD:PUBLISH
X-ORIGINAL-URL:https://fisherofzen.com
X-WR-CALDESC:Events for fisherofzen
REFRESH-INTERVAL;VALUE=DURATION:PT1H
X-Robots-Tag:noindex
X-PUBLISHED-TTL:PT1H
BEGIN:VTIMEZONE
TZID:America/Chicago
BEGIN:DAYLIGHT
TZOFFSETFROM:-0600
TZOFFSETTO:-0500
TZNAME:CDT
DTSTART:20220313T080000
END:DAYLIGHT
BEGIN:STANDARD
TZOFFSETFROM:-0500
TZOFFSETTO:-0600
TZNAME:CST
DTSTART:20221106T070000
END:STANDARD
BEGIN:DAYLIGHT
TZOFFSETFROM:-0600
TZOFFSETTO:-0500
TZNAME:CDT
DTSTART:20230312T080000
END:DAYLIGHT
BEGIN:STANDARD
TZOFFSETFROM:-0500
TZOFFSETTO:-0600
TZNAME:CST
DTSTART:20231105T070000
END:STANDARD
BEGIN:DAYLIGHT
TZOFFSETFROM:-0600
TZOFFSETTO:-0500
TZNAME:CDT
DTSTART:20240310T080000
END:DAYLIGHT
BEGIN:STANDARD
TZOFFSETFROM:-0500
TZOFFSETTO:-0600
TZNAME:CST
DTSTART:20241103T070000
END:STANDARD
END:VTIMEZONE
BEGIN:VEVENT
DTSTART;VALUE=DATE:20231201
DTEND;VALUE=DATE:20231204
DTSTAMP:20260422T000447
CREATED:20231101T145240Z
LAST-MODIFIED:20231102T134029Z
UID:1650-1701388800-1701647999@fisherofzen.com
SUMMARY:Lumiere Women's Retreat
DESCRIPTION:At Lumière\, we encourage your journey to self-discovery and rejuvenation with a diverse array of activities that cater to your mind\, body\, and spirit. Our carefully curated program invites you to reset and reconnect with your inner essence and the healing nature of the hill country. \n\n\n\n\nEnergize\nImmerse yourself in a variety of invigorating exercises and break a sweat instead of sweating the small stuff. \nArchery\nCacao Ceremony\nHealing with Horses*\nHiking in the Hills\nLaughing Yoga\nTennis\nPickleball\nYoga \nExpress\nDive into a range of artistic activities that allow you to unleash your inner artist and draw inspiration from every stroke and creation. \nCeramics*\nJewelry Making*\nKintsugi*\nRhythm Drumming Circle \n\n\n\n\n\n\n\n\nExplore\nRediscover inner peace and embrace the calming and revitalizing experiences that await you and will ultimately lead to a more balanced and centered state of being. \nAngel Card Reading\nChocolate Decadence Experience\nDream Circle\nDeep Healing Massage*\nEvolutionary Astrology*\nIntuitive Spiritual Coaching*\nIridology*\nMeditation on the River\nReiki*\nShakti Dancing\nSound Bath Healing*\n \n*Additional Cost
URL:https://fisherofzen.com/event/lumiere-womens-retreat/
LOCATION:Camp Waldemar\, 1005 FM 1340\, Hunt\, TX\, 78024
ORGANIZER;CN="The School of Zen Fly Fishing":MAILTO:cari@zenflyfishing.org
END:VEVENT
END:VCALENDAR