BEGIN:VCALENDAR
VERSION:2.0
PRODID:-//fisherofzen - ECPv6.15.17//NONSGML v1.0//EN
CALSCALE:GREGORIAN
METHOD:PUBLISH
X-ORIGINAL-URL:https://fisherofzen.com
X-WR-CALDESC:Events for fisherofzen
REFRESH-INTERVAL;VALUE=DURATION:PT1H
X-Robots-Tag:noindex
X-PUBLISHED-TTL:PT1H
BEGIN:VTIMEZONE
TZID:America/Chicago
BEGIN:DAYLIGHT
TZOFFSETFROM:-0600
TZOFFSETTO:-0500
TZNAME:CDT
DTSTART:20220313T080000
END:DAYLIGHT
BEGIN:STANDARD
TZOFFSETFROM:-0500
TZOFFSETTO:-0600
TZNAME:CST
DTSTART:20221106T070000
END:STANDARD
BEGIN:DAYLIGHT
TZOFFSETFROM:-0600
TZOFFSETTO:-0500
TZNAME:CDT
DTSTART:20230312T080000
END:DAYLIGHT
BEGIN:STANDARD
TZOFFSETFROM:-0500
TZOFFSETTO:-0600
TZNAME:CST
DTSTART:20231105T070000
END:STANDARD
BEGIN:DAYLIGHT
TZOFFSETFROM:-0600
TZOFFSETTO:-0500
TZNAME:CDT
DTSTART:20240310T080000
END:DAYLIGHT
BEGIN:STANDARD
TZOFFSETFROM:-0500
TZOFFSETTO:-0600
TZNAME:CST
DTSTART:20241103T070000
END:STANDARD
END:VTIMEZONE
BEGIN:VEVENT
DTSTART;VALUE=DATE:20230916
DTEND;VALUE=DATE:20230917
DTSTAMP:20260421T202928
CREATED:20230911T121811Z
LAST-MODIFIED:20230911T130311Z
UID:1579-1694822400-1694908799@fisherofzen.com
SUMMARY:"Fly By Night" Dark Sky Fly Fishing
DESCRIPTION:Round out your day with a little evening fly fishing. You’ll join your instructor along the banks of the river to watch the sunset and/or do a little stargazing courtesy of Texas Hill Country’s dark sky. Grab hold of a fly rod outfitted with glow-in-thedark line and light up the night with your own fly fishing “light saber” as you learn basic fly casting and fishing. Then we’ll tie on a glowing fly so you can cast into the water and fly fish for multiple species of native sunfish\, channel catfish\, and Guadalupe Bass (the state fish of TX). All equipment and flies are provided\, just bring your sense of wonder and an appetite for adventure. 
URL:https://fisherofzen.com/event/fly-by-night-nighttime-fly-fishing/
LOCATION:Walden Retreats Hill Country\, 1388 Gipson Rd\, Johnson City\, TX\, 78636\, United States
ORGANIZER;CN="The School of Zen Fly Fishing":MAILTO:cari@zenflyfishing.org
END:VEVENT
END:VCALENDAR